BEGIN:VCALENDAR
VERSION:2.0
METHOD:PUBLISH
CALSCALE:GREGORIAN
PRODID:-//Helios Calendar//EN
X-FROM-URL:https://www.sdmesa.edu/calendar/index.php?eID=10137
X-WR-RELCALID:San Diego Mesa College Calendar APD Cultural Night Open Call 20260319T150000
X-WR-TIMEZONE:America/Los_Angeles
X-WR-CALNAME:San Diego Mesa College Calendar
BEGIN:VEVENT
URL;VALUE=URI:https://www.sdmesa.edu/calendar/index.php?eID=10137
DTSTART:20260319T150000
DTEND:20260319T180000
SUMMARY:APD Cultural Night Open Call
DESCRIPTION:Open call for performers and participants for APD Cultural Night. Students are invited to share cultural performances and participate in the celebration of cultural diversity.Date:Thursday\, March 19Time:3-6 PMLocation:Mesa QuadEvent FlyerApplication For complete event details please visit:  https://www.sdmesa.edu/calendar/?eID=10137\n______________________________\nEvent Downloaded Powered by OU Calendar
LOCATION:Mesa Quad - 7250 Mesa College Dr \, San Diego\, CA  92111
CATEGORIES:San Diego Mesa College Calendar Events
PRIORITY:0
TRANSP:TRANSPARENT
END:VEVENT
END:VCALENDAR