BEGIN:VCALENDAR
VERSION:2.0
METHOD:PUBLISH
CALSCALE:GREGORIAN
PRODID:-//Helios Calendar//EN
X-FROM-URL:https://www.sdmesa.edu/calendar/index.php?eID=10136
X-WR-RELCALID:San Diego Mesa College Calendar Conscious Spending Clinic - Credit 20260423T130000
X-WR-TIMEZONE:America/Los_Angeles
X-WR-CALNAME:San Diego Mesa College Calendar
BEGIN:VEVENT
URL;VALUE=URI:https://www.sdmesa.edu/calendar/index.php?eID=10136
DTSTART:20260423T130000
DTEND:20260423T140000
SUMMARY:Conscious Spending Clinic - Credit
DESCRIPTION:Grow your knowledge and financial confidence by discussing money topics with faculty member Brian Lesson. This session focuses on debt and includes snacks and refreshments.Time:1-2pmLocation:BT 218Event Flyer For complete event details please visit:  https://www.sdmesa.edu/calendar/?eID=10136\n______________________________\nEvent Downloaded Powered by OU Calendar
LOCATION:BT-218 - 7250 Mesa College Dr \, San Diego\, CA  92111
CATEGORIES:San Diego Mesa College Calendar Events
PRIORITY:0
TRANSP:TRANSPARENT
END:VEVENT
END:VCALENDAR