BEGIN:VCALENDAR
VERSION:2.0
METHOD:PUBLISH
CALSCALE:GREGORIAN
PRODID:-//Helios Calendar//EN
X-FROM-URL:https://www.sdmesa.edu/calendar/index.php?eID=10135
X-WR-RELCALID:San Diego Mesa College Calendar Make You Major Matter Community Celebrations Fair 20260312T113000
X-WR-TIMEZONE:America/Los_Angeles
X-WR-CALNAME:San Diego Mesa College Calendar
BEGIN:VEVENT
URL;VALUE=URI:https://www.sdmesa.edu/calendar/index.php?eID=10135
DTSTART:20260312T113000
DTEND:20260312T130000
SUMMARY:Make You Major Matter Community Celebrations Fair
DESCRIPTION:This event is designed as a collaborative space where students can learn about the various departments\, programs\, and community-based end of year ceremonies happening across campus\, including the annual San Diego Mesa College Commencement Ceremony.  For complete event details please visit:  https://www.sdmesa.edu/calendar/?eID=10135\n______________________________\nEvent Downloaded Powered by OU Calendar
LOCATION:Mesa Quad - 7250 Mesa College Dr \, San Diego\, CA  92111
CATEGORIES:San Diego Mesa College Calendar Events
PRIORITY:0
TRANSP:TRANSPARENT
END:VEVENT
END:VCALENDAR