BEGIN:VCALENDAR
VERSION:2.0
METHOD:PUBLISH
CALSCALE:GREGORIAN
PRODID:-//Helios Calendar//EN
X-FROM-URL:https://www.sdmesa.edu/calendar/index.php?eID=10130
X-WR-RELCALID:San Diego Mesa College Calendar National University Tabling 20260305T110000
X-WR-TIMEZONE:America/Los_Angeles
X-WR-CALNAME:San Diego Mesa College Calendar
BEGIN:VEVENT
URL;VALUE=URI:https://www.sdmesa.edu/calendar/index.php?eID=10130
DTSTART:20260305T110000
DTEND:20260305T130000
SUMMARY:National University Tabling
DESCRIPTION:Come stop by the Transfer Center to connect with a representative from National University! Learn about their academic programs and transfer opportunities for Mesa students!Location: Mesa College Transfer Center (I4-306) For complete event details please visit:  https://www.sdmesa.edu/calendar/?eID=10130\n______________________________\nEvent Downloaded Powered by OU Calendar
LOCATION:Transfer Center  - 7250 Mesa College Dr\, I400 \, San Diego\, CA  9211
CATEGORIES:San Diego Mesa College Calendar Events
PRIORITY:0
TRANSP:TRANSPARENT
END:VEVENT
END:VCALENDAR