BEGIN:VCALENDAR
VERSION:2.0
METHOD:PUBLISH
CALSCALE:GREGORIAN
PRODID:-//Helios Calendar//EN
X-FROM-URL:https://www.sdmesa.edu/calendar/index.php?eID=10128
X-WR-RELCALID:San Diego Mesa College Calendar Peer Navigator Movie Marathon 20260310T080000
X-WR-TIMEZONE:America/Los_Angeles
X-WR-CALNAME:San Diego Mesa College Calendar
BEGIN:VEVENT
URL;VALUE=URI:https://www.sdmesa.edu/calendar/index.php?eID=10128
DTSTART:20260310T080000
DTEND:20260310T180000
SUMMARY:Peer Navigator Movie Marathon
DESCRIPTION:Peer Navigator Movie MarathonJoin us in a Studio Ghibli Movie Marathon!March 10 from 8:00a - 6:00pMarch 25 from 8:00a - 6:00pAVANZA Workshop Room (I4-202)Disability related accommodations should be made five working days prior to the event via email... For complete event details please visit:  https://www.sdmesa.edu/calendar/?eID=10128\n______________________________\nEvent Downloaded Powered by OU Calendar
LOCATION:Avanza Center (I4-202) - 7250 Mesa College Drive \, San Diego\, CA  92111
CATEGORIES:San Diego Mesa College Calendar Events
PRIORITY:0
TRANSP:TRANSPARENT
END:VEVENT
END:VCALENDAR