BEGIN:VCALENDAR
VERSION:2.0
METHOD:PUBLISH
CALSCALE:GREGORIAN
PRODID:-//Helios Calendar//EN
X-FROM-URL:https://www.sdmesa.edu/calendar/index.php?eID=10110
X-WR-RELCALID:San Diego Mesa College Calendar Make your Major Matter: Community Celebrations Fair 20260303T160000
X-WR-TIMEZONE:America/Los_Angeles
X-WR-CALNAME:San Diego Mesa College Calendar
BEGIN:VEVENT
URL;VALUE=URI:https://www.sdmesa.edu/calendar/index.php?eID=10110
DTSTART:20260303T160000
DTEND:20260303T170000
SUMMARY:Make your Major Matter: Community Celebrations Fair
DESCRIPTION:Join the MEsa College Evaluations Office to learn how to apply for graduation\, get details about the Commencement Ceremony\, and connect with campus departments hosting special recognition ceremonies and celebrations. For complete event details please visit:  https://www.sdmesa.edu/calendar/?eID=10110\n______________________________\nEvent Downloaded Powered by OU Calendar
LOCATION:Mesa Quad - 7250 Mesa College Dr \, San Diego\, CA  92111
CATEGORIES:San Diego Mesa College Calendar Events
PRIORITY:0
TRANSP:TRANSPARENT
END:VEVENT
END:VCALENDAR