BEGIN:VCALENDAR
VERSION:2.0
METHOD:PUBLISH
CALSCALE:GREGORIAN
PRODID:-//Helios Calendar//EN
X-FROM-URL:https://www.sdmesa.edu/calendar/index.php?eID=10109
X-WR-RELCALID:San Diego Mesa College Calendar Finances Workshop 20260317T110000
X-WR-TIMEZONE:America/Los_Angeles
X-WR-CALNAME:San Diego Mesa College Calendar
BEGIN:VEVENT
URL;VALUE=URI:https://www.sdmesa.edu/calendar/index.php?eID=10109
DTSTART:20260317T110000
DTEND:20260317T120000
SUMMARY:Finances Workshop
DESCRIPTION:Peer Navigators present...Finances Workshop: Budgeting and SavingLearn some helpful tips and tricks for managing your finances\, budgeting\, and saving money for your future!Monday\, March 9th from 3:00pm - 4:00pmTuesday\, March 17th from 11:00am - 12:00pmIn... For complete event details please visit:  https://www.sdmesa.edu/calendar/?eID=10109\n______________________________\nEvent Downloaded Powered by OU Calendar
LOCATION:Avanza Center (I4-202) - 7250 Mesa College Drive \, San Diego\, CA  92111
CATEGORIES:San Diego Mesa College Calendar Events
PRIORITY:0
TRANSP:TRANSPARENT
END:VEVENT
END:VCALENDAR