BEGIN:VCALENDAR
VERSION:2.0
METHOD:PUBLISH
CALSCALE:GREGORIAN
PRODID:-//Helios Calendar//EN
X-FROM-URL:https://www.sdmesa.edu/calendar/index.php?eID=10098
X-WR-RELCALID:San Diego Mesa College Calendar Repeat Boutique Pop-Up Fundraiser 20260319T110000
X-WR-TIMEZONE:America/Los_Angeles
X-WR-CALNAME:San Diego Mesa College Calendar
BEGIN:VEVENT
URL;VALUE=URI:https://www.sdmesa.edu/calendar/index.php?eID=10098
DTSTART:20260319T110000
DTEND:20260319T143000
SUMMARY:Repeat Boutique Pop-Up Fundraiser
DESCRIPTION:Shop with purpose at Repeat Boutique on Tuesday\, March 17 and Thursday\, March 19 from 11:00 am to 2:30 pm at Mesa Commons. FASH 112 students will transform campus into stylish pop up shops featuring gently used\, on trend clothing at great prices\,... For complete event details please visit:  https://www.sdmesa.edu/calendar/?eID=10098\n______________________________\nEvent Downloaded Powered by OU Calendar
LOCATION:Mesa Commons 211 - 7250 Mesa College Dr \, San Diego\, CA  92111
CATEGORIES:San Diego Mesa College Calendar Events
PRIORITY:0
TRANSP:TRANSPARENT
END:VEVENT
END:VCALENDAR