BEGIN:VCALENDAR
VERSION:2.0
METHOD:PUBLISH
CALSCALE:GREGORIAN
PRODID:-//Helios Calendar//EN
X-FROM-URL:https://www.sdmesa.edu/calendar/index.php?eID=10097
X-WR-RELCALID:San Diego Mesa College Calendar Mesa Veterans Career Fair 20260303T090000
X-WR-TIMEZONE:America/Los_Angeles
X-WR-CALNAME:San Diego Mesa College Calendar
BEGIN:VEVENT
URL;VALUE=URI:https://www.sdmesa.edu/calendar/index.php?eID=10097
DTSTART:20260303T090000
DTEND:20260303T100000
SUMMARY:Mesa Veterans Career Fair
DESCRIPTION:Ready to take the next step toward your dream career? Join us on March 18\, 2026 | 11 AM-1 PM for the Mesa Veterans Career Fair and connect with employers\, explore job openings\, and network with recruiters. All in one place. Open to student veterans... For complete event details please visit:  https://www.sdmesa.edu/calendar/?eID=10097\n______________________________\nEvent Downloaded Powered by OU Calendar
LOCATION:Mesa Campus - 7250 Mesa College Drive \, San Diego\, CA USA 92111
CATEGORIES:San Diego Mesa College Calendar Events
PRIORITY:0
TRANSP:TRANSPARENT
END:VEVENT
END:VCALENDAR