BEGIN:VCALENDAR
VERSION:2.0
METHOD:PUBLISH
CALSCALE:GREGORIAN
PRODID:-//Helios Calendar//EN
X-FROM-URL:https://www.sdmesa.edu/calendar/index.php?eID=10096
X-WR-RELCALID:San Diego Mesa College Calendar EXPLORING YOUR PERSONALITY TYPE 20260305T110000
X-WR-TIMEZONE:America/Los_Angeles
X-WR-CALNAME:San Diego Mesa College Calendar
BEGIN:VEVENT
URL;VALUE=URI:https://www.sdmesa.edu/calendar/index.php?eID=10096
DTSTART:20260305T110000
DTEND:20260305T130000
SUMMARY:EXPLORING YOUR PERSONALITY TYPE
DESCRIPTION:Do you know your personality preferance type?Take the opportunity to explore and discover your personality type\,determine how your natural personality preferences affect your preferredwork tasks and work environments.Workshop facilitated by Career... For complete event details please visit:  https://www.sdmesa.edu/calendar/?eID=10096\n______________________________\nEvent Downloaded Powered by OU Calendar
LOCATION:Business & Technology - Room BT-101 - 7250 Mesa College Drive. \, San Diego\, CA  92111
CATEGORIES:San Diego Mesa College Calendar Events
PRIORITY:0
TRANSP:TRANSPARENT
END:VEVENT
END:VCALENDAR