BEGIN:VCALENDAR
VERSION:2.0
METHOD:PUBLISH
CALSCALE:GREGORIAN
PRODID:-//Helios Calendar//EN
X-FROM-URL:https://www.sdmesa.edu/calendar/index.php?eID=10091
X-WR-RELCALID:San Diego Mesa College Calendar Art Gallery Exhibition -  The Politics of Portrayal 20260304T110000
X-WR-TIMEZONE:America/Los_Angeles
X-WR-CALNAME:San Diego Mesa College Calendar
BEGIN:VEVENT
URL;VALUE=URI:https://www.sdmesa.edu/calendar/index.php?eID=10091
DTSTART:20260304T110000
DTEND:20260304T130000
SUMMARY:Art Gallery Exhibition -  The Politics of Portrayal
DESCRIPTION:Join us for aÂ Special Guided Tour ofÂ San Diego Mesa Collegeâ€™s Art Gallery exhibition\,Â The Politics of PortrayalÂ onÂ Wednesday\, March 4\, 2026Â stop by anytime betweenÂ 11:00 AM â€" 1:00 PMÂ at the Mesa CollegeÂ Art Gallery\, Room FA-103.This... For complete event details please visit:  https://www.sdmesa.edu/calendar/?eID=10091\n______________________________\nEvent Downloaded Powered by OU Calendar
LOCATION:Art Gallery - ROOM FA-103 - 7250 Mesa College Drive \, San Diego\, CA  92111
CATEGORIES:San Diego Mesa College Calendar Events
PRIORITY:0
TRANSP:TRANSPARENT
END:VEVENT
END:VCALENDAR