BEGIN:VCALENDAR
VERSION:2.0
METHOD:PUBLISH
CALSCALE:GREGORIAN
PRODID:-//Helios Calendar//EN
X-FROM-URL:https://www.sdmesa.edu/calendar/index.php?eID=10090
X-WR-RELCALID:San Diego Mesa College Calendar UCLA Transfer Alliance Program Info Session 20260304T140000
X-WR-TIMEZONE:America/Los_Angeles
X-WR-CALNAME:San Diego Mesa College Calendar
BEGIN:VEVENT
URL;VALUE=URI:https://www.sdmesa.edu/calendar/index.php?eID=10090
DTSTART:20260304T140000
DTEND:20260304T150000
SUMMARY:UCLA Transfer Alliance Program Info Session
DESCRIPTION:The UCLA Transfer Alliance Program allows you to enhance your ability to transfer to UCLA at the junior level from San Diego Mesa College. Join us in the Honors Center to get to know more about UCLA TAP.Date: March 4Time: 2pm - 3pmLocation: The Honors... For complete event details please visit:  https://www.sdmesa.edu/calendar/?eID=10090\n______________________________\nEvent Downloaded Powered by OU Calendar
LOCATION:Honors Center (K-108) - 7250 Mesa College Dr \, San Diego\, CA  92111
CATEGORIES:San Diego Mesa College Calendar Events
PRIORITY:0
TRANSP:TRANSPARENT
END:VEVENT
END:VCALENDAR