BEGIN:VCALENDAR
VERSION:2.0
METHOD:PUBLISH
CALSCALE:GREGORIAN
PRODID:-//Helios Calendar//EN
X-FROM-URL:https://www.sdmesa.edu/calendar/index.php?eID=10087
X-WR-RELCALID:San Diego Mesa College Calendar Financial Aid Information Fair 20260302T233000
X-WR-TIMEZONE:America/Los_Angeles
X-WR-CALNAME:San Diego Mesa College Calendar
BEGIN:VEVENT
URL;VALUE=URI:https://www.sdmesa.edu/calendar/index.php?eID=10087
DTSTART:20260302T233000
DTEND:20260303T133000
SUMMARY:Financial Aid Information Fair
DESCRIPTION:Find out about financial aid and campus support services including Financial Aid\, Counseling\, STAR\, Transfer Career Center\, EOPS/CARE\, Associated Students\, DSPS\, Admissions\, Veterans & Records\, Student Affairs\, Health Services\, Student Accounting\,... For complete event details please visit:  https://www.sdmesa.edu/calendar/?eID=10087\n______________________________\nEvent Downloaded Powered by OU Calendar
LOCATION:Mesa Quad - 7250 Mesa College Dr \, San Diego\, CA  92111
CATEGORIES:San Diego Mesa College Calendar Events
PRIORITY:0
TRANSP:TRANSPARENT
END:VEVENT
END:VCALENDAR