BEGIN:VCALENDAR
VERSION:2.0
METHOD:PUBLISH
CALSCALE:GREGORIAN
PRODID:-//Helios Calendar//EN
X-FROM-URL:https://www.sdmesa.edu/calendar/index.php?eID=10081
X-WR-RELCALID:San Diego Mesa College Calendar Women in Human Rights Law Career Panel 20260303T111000
X-WR-TIMEZONE:America/Los_Angeles
X-WR-CALNAME:San Diego Mesa College Calendar
BEGIN:VEVENT
URL;VALUE=URI:https://www.sdmesa.edu/calendar/index.php?eID=10081
DTSTART:20260303T111000
DTEND:20260303T130000
SUMMARY:Women in Human Rights Law Career Panel
DESCRIPTION:Women's History Month and the Pathway to Law Program present a Women in Human Rights Law Career Panel.Hear about practicing human rights law from a panel of experts:Anne Bautista\, Casa CorneliaStephanie Adelson\, Adelson Law Office  Nancy Marcus\,... For complete event details please visit:  https://www.sdmesa.edu/calendar/?eID=10081\n______________________________\nEvent Downloaded Powered by OU Calendar
LOCATION:BT-101 - 7250 Mesa College Dr \, San Diego\, CA  92111
CATEGORIES:San Diego Mesa College Calendar Events
PRIORITY:0
TRANSP:TRANSPARENT
END:VEVENT
END:VCALENDAR